BEGIN:VCALENDAR
VERSION:2.0
PRODID:-//hacksw/handcal//NONSGML v1.0//EN
CALSCALE:GREGORIAN
BEGIN:VEVENT
DTEND:20241005T180000Z
UID: 69e6d926a0f4e
DTSTAMP:20260420T205550Z
LOCATION:Lindberg Stadium 
DESCRIPTION:The Augustana Vikings will play the Homecoming football game vs. North Park.&nbsp\;Complete 2024 football schedule
URL;VALUE=URI:https://www.augustana.edu/about-us/events/2024/football-vs-north-park
SUMMARY:Football vs. North Park (Homecoming game)
DTSTART:20241005T180000Z
END:VEVENT
END:VCALENDAR
