BEGIN:VCALENDAR
VERSION:2.0
PRODID:-//hacksw/handcal//NONSGML v1.0//EN
CALSCALE:GREGORIAN
BEGIN:VEVENT
DTEND:20240907T230000Z
UID: 69e6d874bdeda
DTSTAMP:20260420T205252Z
LOCATION:Lindberg Stadium 
DESCRIPTION:The Augustana Vikings will play football vs. Simpson.Complete 2024 football schedule
URL;VALUE=URI:https://www.augustana.edu/about-us/events/2024/football-vs-simpson
SUMMARY:Football vs. Simpson
DTSTART:20240907T230000Z
END:VEVENT
END:VCALENDAR
