BEGIN:VCALENDAR
VERSION:2.0
PRODID:-//hacksw/handcal//NONSGML v1.0//EN
CALSCALE:GREGORIAN
BEGIN:VEVENT
DTEND:20250524T190000Z
UID: 69e9c9326c305
DTSTAMP:20260423T022434Z
LOCATION:Vibrant Arena at the Mark
DESCRIPTION:Augustana College will hold its 165th Commencement Convocation at 2 p.m. Doors open at noon.The ceremony will be live-streamed and archived on the college's YouTube channel.No tickets are required. Attendees will walk through metal detectors before entering the center.Purses\, backpacks and bags should be left at home or in a vehicle\, if possible. Airhorns\, noisemakers and helium balloons are prohibited.The ceremony will last approximately two hours\; please allow additional time to exit the building and parking lot.
URL;VALUE=URI:https://www.augustana.edu/about-us/events/2025/165th-commencement
SUMMARY:165th Commencement
DTSTART:20250524T190000Z
END:VEVENT
END:VCALENDAR
