BEGIN:VCALENDAR
VERSION:2.0
PRODID:-//hacksw/handcal//NONSGML v1.0//EN
CALSCALE:GREGORIAN
BEGIN:VEVENT
DTEND:20250524T150000Z
UID: 69e9c9327d9e3
DTSTAMP:20260423T022434Z
LOCATION:Centennial Hall
DESCRIPTION:The Blessing of the Graduates: A Baccalaureate is a service for graduates.Graduates are invited to wear their caps and gowns and sit with their families and friends.The 165th Commencement Convocation will follow at 2 p.m. at the Vibrant Arena at the Mark\, 1201 River Drive\, Moline\, Ill.&nbsp\;
URL;VALUE=URI:https://www.augustana.edu/about-us/events/2025/blessing-graduates-baccalaureate
SUMMARY:Blessing of the Graduates: A Baccalaureate
DTSTART:20250524T150000Z
END:VEVENT
END:VCALENDAR
