BEGIN:VCALENDAR
VERSION:2.0
PRODID:-//hacksw/handcal//NONSGML v1.0//EN
CALSCALE:GREGORIAN
BEGIN:VEVENT
DTEND:20250523T213000Z
UID: 69e9c910279b9
DTSTAMP:20260423T022400Z
LOCATION:Centennial Hall
DESCRIPTION:This event honors students selected for special honors awarded by the various academic and administrative departments on campus. Honorees will receive an invitation from Academic Affairs. Family and friends are welcome to attend. No tickets are required.
URL;VALUE=URI:https://www.augustana.edu/about-us/events/2025/senior-departmental-honors-celebration
SUMMARY:Senior Departmental Honors Celebration
DTSTART:20250523T213000Z
END:VEVENT
END:VCALENDAR
