BEGIN:VCALENDAR
VERSION:2.0
PRODID:-//hacksw/handcal//NONSGML v1.0//EN
CALSCALE:GREGORIAN
BEGIN:VEVENT
DTEND:20250523T193000Z
UID: 69e9c92e73930
DTSTAMP:20260423T022430Z
LOCATION:Wallenberg Hall\, Denkmann Memorial Building
DESCRIPTION:The Master's Hooding Ceremony for graduating students in speech-language pathology will begin at 2:30 p.m.
URL;VALUE=URI:https://www.augustana.edu/about-us/events/2025/masters-hooding-ceremony
SUMMARY:Master's Hooding Ceremony
DTSTART:20250523T193000Z
END:VEVENT
END:VCALENDAR
