BEGIN:VCALENDAR
VERSION:2.0
PRODID:-//hacksw/handcal//NONSGML v1.0//EN
CALSCALE:GREGORIAN
BEGIN:VEVENT
DTEND:20241124T230000Z
UID: 69e6d94508d96
DTSTAMP:20260420T205621Z
LOCATION:Ascension Chapel
DESCRIPTION:Enjoy a beautiful\, spiritual presentation of lessons and carols within the intimate setting of Ascension Chapel. The Augustana Chamber Singers\, and Campus Ministries and the Ascension Ringers will present the story of Christ's birth in readings and song.
URL;VALUE=URI:https://www.augustana.edu/about-us/events/2024/lessons-and-carols-0
SUMMARY:Lessons and Carols
DTSTART:20241124T230000Z
END:VEVENT
END:VCALENDAR
