BEGIN:VCALENDAR
VERSION:2.0
PRODID:-//hacksw/handcal//NONSGML v1.0//EN
CALSCALE:GREGORIAN
BEGIN:VEVENT
DTEND:20241118T010000Z
UID: 69e6d99369524
DTSTAMP:20260420T205739Z
LOCATION:Centennial Hall
DESCRIPTION:The Augustana Percussion Ensemble will perform\, directed by Dr. Tony Oliver.
URL;VALUE=URI:https://www.augustana.edu/about-us/events/2024/augustana-percussion-ensemble-concert-1
SUMMARY:Augustana Percussion Ensemble concert
DTSTART:20241118T010000Z
END:VEVENT
END:VCALENDAR
