BEGIN:VCALENDAR
VERSION:2.0
PRODID:-//hacksw/handcal//NONSGML v1.0//EN
CALSCALE:GREGORIAN
BEGIN:VEVENT
DTEND:20241109T220000Z
UID: 69e6d874c7c9f
DTSTAMP:20260420T205252Z
LOCATION:Centennial Hall
DESCRIPTION:The Augustana Symphony Orchestra Concerto Competition will take place.
URL;VALUE=URI:https://www.augustana.edu/about-us/events/2024/augustana-symphony-orchestra-concerto-competition
SUMMARY:Augustana Symphony Orchestra Concerto Competition
DTSTART:20241109T220000Z
END:VEVENT
END:VCALENDAR
