BEGIN:VCALENDAR
VERSION:2.0
PRODID:-//hacksw/handcal//NONSGML v1.0//EN
CALSCALE:GREGORIAN
BEGIN:VEVENT
DTEND:20241030T003000Z
UID: 69e6d9bc31793
DTSTAMP:20260420T205820Z
LOCATION:Wallenberg Hall\, Denkmann Memorial Building
DESCRIPTION:The Augustana Jazz Combos will perform\, directed by Dr. Joel Linscheid.
URL;VALUE=URI:https://www.augustana.edu/about-us/events/2024/augustana-jazz-combos-concert-1
SUMMARY:Augustana Jazz Combos concert
DTSTART:20241030T003000Z
END:VEVENT
END:VCALENDAR
