BEGIN:VCALENDAR
VERSION:2.0
PRODID:-//hacksw/handcal//NONSGML v1.0//EN
CALSCALE:GREGORIAN
BEGIN:VEVENT
DTEND:20241026T003000Z
UID: 69e6d8b47a1d6
DTSTAMP:20260420T205356Z
LOCATION:Centennial Hall
DESCRIPTION:The Augustana Jazz Ensemble and the newly formed Jazz Lab Band will perform\, directed by Dr. Joel Linscheid.The newly formed Jazz Lab Band will perform "Smooth Talk" by Maria Schneider\; "Mamacita" by Joe Henderson\, arr. Terry White\; and "Doxy" by Sonny Rollins\, arr Mark Taylor.The Augustana Jazz Ensemble will perform "Vine Street Rumble" by Benny Carter\; "Big Dipper" by Thad Jones\; "Mood Indigo" by Duke Ellington and other pieces.&nbsp\;
URL;VALUE=URI:https://www.augustana.edu/about-us/events/2024/augustana-jazz-ensemble-concert-1
SUMMARY:Augustana Jazz Ensemble concert
DTSTART:20241026T003000Z
END:VEVENT
END:VCALENDAR
