BEGIN:VCALENDAR
VERSION:2.0
PRODID:-//hacksw/handcal//NONSGML v1.0//EN
CALSCALE:GREGORIAN
BEGIN:VEVENT
DTEND:20241027T200000Z
UID: 69e6d8de882e6
DTSTAMP:20260420T205438Z
LOCATION:St. Paul Lutheran Church
DESCRIPTION:The Augustana Choir and Augustana Choral Artists will perform under the direction of Dr. Jon Hurty.The 24-voice Augustana Choral Artists will perform a variety of works including Rejoice in the Lamb by Benjamin Britten and Herbert Howells’ Like as the Hart that will feature\, Chris Nelson\, college organist and director of music at St. Paul Lutheran Church.The 52-voice Augustana Choir will perform traditional and modern choral selections\, including works by Johannes Brahms\, Eriks Ešenvalds\, and Jake Runestad.The concert is free and open to the public.https://www.augustana.edu/about-us/events/2024/augustana-choir-and-choral-artists-concert&nbsp\;
URL;VALUE=URI:https://www.augustana.edu/about-us/events/2024/augustana-choir-and-choral-artists-concert
SUMMARY:Augustana Choir and Choral Artists concert
DTSTART:20241027T200000Z
END:VEVENT
END:VCALENDAR
