BEGIN:VCALENDAR
VERSION:2.0
PRODID:-//hacksw/handcal//NONSGML v1.0//EN
CALSCALE:GREGORIAN
BEGIN:VEVENT
DTEND:20241013T000000Z
UID: 69e6d96ebab3f
DTSTAMP:20260420T205702Z
LOCATION:Centennial Hall
DESCRIPTION:Come spend the evening with the Augustana Symphony Orchestra and Chamber Orchestra. Under&nbsp\;the direction of Hisham Bravo Groover\, the program will feature an eclectic mix of music\, including Schubert's Unfinished&nbsp\;Symphony\, Walker's Lyric for Strings\, and Bernstein's Three Dance Episodes from On the Town.
URL;VALUE=URI:https://www.augustana.edu/about-us/events/2024/augustana-symphony-orchestra-concert-1
SUMMARY:Augustana Symphony Orchestra concert
DTSTART:20241013T000000Z
END:VEVENT
END:VCALENDAR
