BEGIN:VCALENDAR
VERSION:2.0
PRODID:-//hacksw/handcal//NONSGML v1.0//EN
CALSCALE:GREGORIAN
BEGIN:VEVENT
DTEND:20241006T130000Z
UID: 69e6d911efc69
DTSTAMP:20260420T205529Z
LOCATION:
DESCRIPTION:Augustana College will have a combined celebration for its 104th Homecoming and annual Family Weekend on Oct. 4-6\, 2024.Special reunions are planned for classes with graduation years ending with 4 and 9.
URL;VALUE=URI:https://www.augustana.edu/about-us/events/2024/homecoming-and-family-weekend-sun
SUMMARY:Homecoming and Family Weekend
DTSTART:20241006T130000Z
END:VEVENT
END:VCALENDAR
