BEGIN:VCALENDAR
VERSION:2.0
PRODID:-//hacksw/handcal//NONSGML v1.0//EN
CALSCALE:GREGORIAN
BEGIN:VEVENT
DTEND:20241124T140000Z
UID: 69e6f23483823
DTSTAMP:20260420T224244Z
LOCATION:
DESCRIPTION:Established in 1874 as the Augustana Silver Cornet Band\, the Augustana College band program has grown to include several ensembles. In 2024\, the Augustana Symphonic Band (formerly the Augustana Concert Band) will mark its 150th anniversary on Nov. 22-24.Plans include a weekend sesquicentennial celebration featuring:Friday evening refreshmentsTwo continental breakfastsTours of Bergendoff Hall and campusParticipation in the alumni band (alumni only)DinnerReserved\, priority seating at the sesquicentennial celebration concert
URL;VALUE=URI:https://www.augustana.edu/about-us/events/2024/symphonic-band-sesquicentennial-celebration-sun
SUMMARY:Symphonic Band Sesquicentennial Celebration
DTSTART:20241124T140000Z
END:VEVENT
END:VCALENDAR
