BEGIN:VCALENDAR
VERSION:2.0
PRODID:-//hacksw/handcal//NONSGML v1.0//EN
CALSCALE:GREGORIAN
BEGIN:VEVENT
DTEND:20250509T003000Z
UID: 69e6ee621ff85
DTSTAMP:20260420T222626Z
LOCATION:Brunner Theatre Center
DESCRIPTION:The Augustana College Department of Theatre and Film presents "Proof\," May 8-11\, 2025\, at the Brunner Theatre Center. The play is directed by Dr. Jennifer Popple\, associate professor of theatre arts and co-chair of the theatre and film department.
URL;VALUE=URI:https://www.augustana.edu/about-us/events/2025/proof-thurs
SUMMARY:'Proof'
DTSTART:20250509T003000Z
END:VEVENT
END:VCALENDAR
