BEGIN:VCALENDAR
VERSION:2.0
PRODID:-//hacksw/handcal//NONSGML v1.0//EN
CALSCALE:GREGORIAN
BEGIN:VEVENT
DTEND:20250316T003000Z
UID: 69e6f56daad28
DTSTAMP:20260420T225629Z
LOCATION:Brunner Theatre Center
DESCRIPTION:The Augustana College Department of Theatre and Film presents "The Prom\," March 13-16\, at the Brunner Theatre Center. The musical is directed by Shelley Cooper\, Augustana associate professor of theatre arts.
URL;VALUE=URI:https://www.augustana.edu/about-us/events/2025/the-prom-sat
SUMMARY:'The Prom'
DTSTART:20250316T003000Z
END:VEVENT
END:VCALENDAR
