BEGIN:VCALENDAR
VERSION:2.0
PRODID:-//hacksw/handcal//NONSGML v1.0//EN
CALSCALE:GREGORIAN
BEGIN:VEVENT
DTEND:20241117T193000Z
UID: 69e6eecef25e4
DTSTAMP:20260420T222814Z
LOCATION:Brunner Theatre Center
DESCRIPTION:The Augustana College Department of Theatre and Film presents "Comedy of Errors\," Nov. 14-17\, at the Brunner Theatre Center. The play is directed by Jeff Coussens\, Augustana professor of theatre arts.
URL;VALUE=URI:https://www.augustana.edu/about-us/events/2024/comedy-errors-sun
SUMMARY:'Comedy of Errors'
DTSTART:20241117T193000Z
END:VEVENT
END:VCALENDAR
