BEGIN:VCALENDAR
VERSION:2.0
PRODID:-//hacksw/handcal//NONSGML v1.0//EN
CALSCALE:GREGORIAN
BEGIN:VEVENT
DTEND:20241104T013000Z
UID: 69e6ee7b73f1b
DTSTAMP:20260420T222651Z
LOCATION:Brunner Theatre Center
DESCRIPTION:A performance of "Philanderer\," directed by Allie McPeak '25.
URL;VALUE=URI:https://www.augustana.edu/about-us/events/2024/philanderer-sun
SUMMARY:'Philanderer'
DTSTART:20241104T013000Z
END:VEVENT
END:VCALENDAR
