BEGIN:VCALENDAR
VERSION:2.0
PRODID:-//hacksw/handcal//NONSGML v1.0//EN
CALSCALE:GREGORIAN
BEGIN:VEVENT
DTEND:20240519T000000Z
UID: 69e6f0b5f3f17
DTSTAMP:20260420T223621Z
LOCATION:Brunner Theatre Center
DESCRIPTION:The Augustana Dance Company will present the spring 2024 dance showcase “Eclipse\,” featuring a blend of hip hop\, ballet and contemporary dance choreographed by members.
URL;VALUE=URI:https://www.augustana.edu/about-us/events/2024/dance-company-eclipse
SUMMARY:Dance Company: 'Eclipse'
DTSTART:20240519T000000Z
END:VEVENT
END:VCALENDAR
