BEGIN:VCALENDAR
VERSION:2.0
PRODID:-//hacksw/handcal//NONSGML v1.0//EN
CALSCALE:GREGORIAN
BEGIN:VEVENT
DTEND:20240510T203000Z
UID: 69e6f37370255
DTSTAMP:20260420T224803Z
LOCATION:Carlsson Evald Hall
DESCRIPTION:Join Augustana's Art Department to celebrate Kaitlyn Niedfeldt's work in preparation for her art education major.
URL;VALUE=URI:https://www.augustana.edu/about-us/events/2024/art-exhibition-reception-kaitlyn-niedfeldt-24
SUMMARY:Art exhibition reception: Kaitlyn Niedfeldt '24
DTSTART:20240510T203000Z
END:VEVENT
END:VCALENDAR
