BEGIN:VCALENDAR
VERSION:2.0
PRODID:-//hacksw/handcal//NONSGML v1.0//EN
CALSCALE:GREGORIAN
BEGIN:VEVENT
DTEND:20240508T150000Z
UID: 69e6f43827379
DTSTAMP:20260420T225120Z
LOCATION:Hanson Hall of Science
DESCRIPTION:A member of the Salish Tribe\, Dr. Boham will talk about the experiences of the Salish\, Kootenai and North Pend d'Orielle Tribes and about reasons for optimism about the future. The tribes have been the victims of huge injustices perpetrated by the U.S. government\, among the them the loss of most of their ancestral homelands as a result of the 1855 Hell Gate Treaty\, the cultural impact of boarding schools established to destroy their culture\, and an allotment system imposed upon them that deprived them of land on their reservation that\, according to the Hell Gate Treaty\, was "set aside . . . for [their] exclusive use." Yet they are a people of hope. Dr. Boham will talk about their vision for the future.This lecture\, which is sponsored by the Augustana Center for the Study of Ethics and part of the 2024 Celebration of Learning\, is open to the public.
URL;VALUE=URI:https://www.augustana.edu/about-us/events/2024/guest-speaker-dr-sandra-boham-people-vision
SUMMARY:Guest speaker: Dr. Sandra Boham\, 'A People of Vision'
DTSTART:20240508T150000Z
END:VEVENT
END:VCALENDAR
