BEGIN:VCALENDAR
VERSION:2.0
PRODID:-//hacksw/handcal//NONSGML v1.0//EN
CALSCALE:GREGORIAN
BEGIN:VEVENT
DTEND:20240505T210000Z
UID: 69e6f36d51a4c
DTSTAMP:20260420T224757Z
LOCATION:Bergendoff Hall of Fine Arts
DESCRIPTION:Senior Savonia Mahr-Threw\, a French and communication studies double major from Peoria\, Ill.\, will perform a double bass recital.
URL;VALUE=URI:https://www.augustana.edu/about-us/events/2024/student-recital-savonia-mahr-threw-double-bass
SUMMARY:Student recital: Savonia Mahr-Threw\, double bass
DTSTART:20240505T210000Z
END:VEVENT
END:VCALENDAR
