BEGIN:VCALENDAR
VERSION:2.0
PRODID:-//hacksw/handcal//NONSGML v1.0//EN
CALSCALE:GREGORIAN
BEGIN:VEVENT
DTEND:20240505T180000Z
UID: 69e6f1c7500f5
DTSTAMP:20260420T224055Z
LOCATION:Centennial Hall
DESCRIPTION:The Augustana Low Brass Ensemble will perform.Low brass are the family of brass instruments consisting of trombones\, euphoniums and baritones and tubas.
URL;VALUE=URI:https://www.augustana.edu/about-us/events/2024/low-brass-ensemble-concert
SUMMARY:Low Brass Ensemble concert
DTSTART:20240505T180000Z
END:VEVENT
END:VCALENDAR
