BEGIN:VCALENDAR
VERSION:2.0
PRODID:-//hacksw/handcal//NONSGML v1.0//EN
CALSCALE:GREGORIAN
BEGIN:VEVENT
DTEND:20240504T180000Z
UID: 69e6f4e95b9bf
DTSTAMP:20260420T225417Z
LOCATION:Peter J. Lindberg\, M.D.\, Center for Health and Human Performance
DESCRIPTION:Join the Augustana Mycophiles and a local mushroom expert from 1-2 p.m. to seek out fungal biodiversity on our campus. Please join if you are interested in looking for mushrooms\, or if you would like to find out how to educate yourself with summer mycology classes in the Quad Cities. Weather permitting\, this would be a fantastic experience even for those who know nothing about fungi.
URL;VALUE=URI:https://www.augustana.edu/about-us/events/2024/fungal-foray-through-slough
SUMMARY:Fungal Foray Through the Slough
DTSTART:20240504T180000Z
END:VEVENT
END:VCALENDAR
