BEGIN:VCALENDAR
VERSION:2.0
PRODID:-//hacksw/handcal//NONSGML v1.0//EN
CALSCALE:GREGORIAN
BEGIN:VEVENT
DTEND:20240430T203000Z
UID: 69e6f18f213d9
DTSTAMP:20260420T223959Z
LOCATION:Denkmann Memorial Building
DESCRIPTION:Join the Swenson Swedish Immigration Research Center for a presentation on and discussion of the history of U.S. media and popular culture in Sweden. Ulf Jonas Bjork\, Ph.D.\, will present.
URL;VALUE=URI:https://www.augustana.edu/about-us/events/2024/presentation-us-media-and-pop-culture-sweden
SUMMARY:Presentation: 'U.S. Media and Pop Culture in Sweden'
DTSTART:20240430T203000Z
END:VEVENT
END:VCALENDAR
