BEGIN:VCALENDAR
VERSION:2.0
PRODID:-//hacksw/handcal//NONSGML v1.0//EN
CALSCALE:GREGORIAN
BEGIN:VEVENT
DTEND:20240522T220000Z
UID: 69e6f50fdf4cb
DTSTAMP:20260420T225455Z
LOCATION:
DESCRIPTION:Please join us for an exciting new line-up of videos produced right here on campus at our annual student film showcase!Outstanding productions created in 2023-24 courses (documentary filmmaking\, production fundamentals\, crew production) will make their Quad Cities premiere at The Last Picture House in downtown Davenport\, free and open to the public.Celebrate Augie Film at 5 p.m. for a 30-minute reception in the lobby bar. Make your voice heard on the audience choice award ballot once the 1-hour screening begins promptly at 5:30 p.m. Afterward\, enjoy a short Q&amp\;A with the filmmakers to learn more about their productions and process.
URL;VALUE=URI:https://www.augustana.edu/about-us/events/2024/augustana-film-2024-student-film-showcase
SUMMARY:Augustana Film 2024 student film showcase
DTSTART:20240522T220000Z
END:VEVENT
END:VCALENDAR
