BEGIN:VCALENDAR
VERSION:2.0
PRODID:-//hacksw/handcal//NONSGML v1.0//EN
CALSCALE:GREGORIAN
BEGIN:VEVENT
DTEND:20240503T143000Z
UID: 69e6f2fdcf21b
DTSTAMP:20260420T224605Z
LOCATION:Peter J. Lindberg\, M.D.\, Center for Health and Human Performance
DESCRIPTION:This Viking Visit Day helps admitted students and their families learn more about what Augustana College has to offer.Highlights include a campus tour\, a current student panel\, lunch in the dining hall\, an overview of next steps\, and a variety of optional add-ons (like a fine arts tour\, athletics tour\, science lab tour\, meetings with faculty and financial aid conversations).→ Sign up now!
URL;VALUE=URI:https://www.augustana.edu/about-us/events/2024/admitted-student-viking-visit-day-may3
SUMMARY:Admitted Student Viking Visit Day
DTSTART:20240503T143000Z
END:VEVENT
END:VCALENDAR
