BEGIN:VCALENDAR
VERSION:2.0
PRODID:-//hacksw/handcal//NONSGML v1.0//EN
CALSCALE:GREGORIAN
BEGIN:VEVENT
DTEND:20240512T190000Z
UID: 69e6f1384cece
DTSTAMP:20260420T223832Z
LOCATION:Wallenberg Hall\, Denkmann Memorial Building
DESCRIPTION:Senior John Flannery\, a music performance-piano\, music composition and music education major from Washington\, Iowa\, will perform a piano recital.
URL;VALUE=URI:https://www.augustana.edu/about-us/events/2024/student-recital-john-flannery-piano
SUMMARY:Student recital: John Flannery\, piano
DTSTART:20240512T190000Z
END:VEVENT
END:VCALENDAR
