BEGIN:VCALENDAR
VERSION:2.0
PRODID:-//hacksw/handcal//NONSGML v1.0//EN
CALSCALE:GREGORIAN
BEGIN:VEVENT
DTEND:20240507T000000Z
UID: 69e6f573b0ad1
DTSTAMP:20260420T225635Z
LOCATION:
DESCRIPTION:Camp Ritchie is located in Maryland. During WWII it served as a secret training facility. Its 9\,000 soldiers (the "Ritchie Boys") were refugees from German-speaking countries\, recruited because of their knowledge of German language and culture. Join us to hear their stories of heroism and patriotism.Speaker Bernie Ludran will describe the museum and the men and women who served during WWII.Sponsored by the Center for the Study of Judaism and Jewish Culture.
URL;VALUE=URI:https://www.augustana.edu/about-us/events/2024/virtual-presentation-secret-heroes-how-immigrants-and-refugees-helped-win-wwii
SUMMARY:Virtual presentation: 'Secret Heroes: How Immigrants and Refugees Helped Win WWII'
DTSTART:20240507T000000Z
END:VEVENT
END:VCALENDAR
