BEGIN:VCALENDAR
VERSION:2.0
PRODID:-//hacksw/handcal//NONSGML v1.0//EN
CALSCALE:GREGORIAN
BEGIN:VEVENT
DTEND:20240425T230000Z
UID: 69e7cda18c42d
DTSTAMP:20260421T141857Z
LOCATION:Asian Pacific Islander Desi American Culture House
DESCRIPTION:The Asian Student Organization will present on AAPI representation in a media. Stick around for a movie afterward. This event is part of Diversity Week.
URL;VALUE=URI:https://www.augustana.edu/about-us/events/2024/presentation-aapi-representation-media
SUMMARY:Presentation: AAPI representation in the media
DTSTART:20240425T230000Z
END:VEVENT
END:VCALENDAR
