BEGIN:VCALENDAR
VERSION:2.0
PRODID:-//hacksw/handcal//NONSGML v1.0//EN
CALSCALE:GREGORIAN
BEGIN:VEVENT
DTEND:20240418T220000Z
UID: 69e70624e4494
DTSTAMP:20260421T000748Z
LOCATION:Old Main 
DESCRIPTION:
URL;VALUE=URI:https://www.augustana.edu/about-us/events/2024/river-readings-sarah-kain-gutowski
SUMMARY:River Readings: Sarah Kain Gutowski
DTSTART:20240418T220000Z
END:VEVENT
END:VCALENDAR
