BEGIN:VCALENDAR
VERSION:2.0
PRODID:-//hacksw/handcal//NONSGML v1.0//EN
CALSCALE:GREGORIAN
BEGIN:VEVENT
DTEND:20240420T000000Z
UID: 69e7080dcd076
DTSTAMP:20260421T001557Z
LOCATION:Bergendoff Hall of Fine Arts
DESCRIPTION:Adjunct Assistant Professor of Music Sasha Garver\, flute\, and Part-Time Instructor of Music Matthew Kowalczyk\, bassoon\, will offer a recital.
URL;VALUE=URI:https://www.augustana.edu/about-us/events/2024/faculty-recital-sasha-garver-flute-and-matt-kowalczyk-bassoon
SUMMARY:Faculty recital: Sasha Garver\, flute\, and Matt Kowalczyk\, bassoon
DTSTART:20240420T000000Z
END:VEVENT
END:VCALENDAR
