BEGIN:VCALENDAR
VERSION:2.0
PRODID:-//hacksw/handcal//NONSGML v1.0//EN
CALSCALE:GREGORIAN
BEGIN:VEVENT
DTEND:20240426T223000Z
UID: 69e503ed06603
DTSTAMP:20260419T113349Z
LOCATION:
DESCRIPTION:International Street Fest (ISF) is an event for the entire campus community focused on celebrating the diversity of Augustana College. While we have cultural events specific to groups present on campus\, International Street Fest is our attempt at bringing this diversity in one place. We believe this event will be fun and educational to the entire community and will bring us closer together.Presented by Global Engagement Team.
URL;VALUE=URI:https://www.augustana.edu/about-us/events/2024/international-street-fest-isf
SUMMARY:International Street Fest (ISF)
DTSTART:20240426T223000Z
END:VEVENT
END:VCALENDAR
