BEGIN:VCALENDAR
VERSION:2.0
PRODID:-//hacksw/handcal//NONSGML v1.0//EN
CALSCALE:GREGORIAN
BEGIN:VEVENT
DTEND:20240410T233000Z
UID: 69e9e363c973e
DTSTAMP:20260423T041619Z
LOCATION:Peter J. Lindberg\, M.D.\, Center for Health and Human Performance
DESCRIPTION:Eid al-Fitr or the Festival of Sweets is one of the two official holidays celebrated within Islam. The religious holiday is celebrated by Muslims worldwide because it marks the end of the month-long dawn-to-sunset fasting of Ramadan. This event is not only for the Muslim community on campus but also is open to all students\, staff and faculty.Presented by Global Engagement Team\, Muslim Student Association and Moroccan Student Union.
URL;VALUE=URI:https://www.augustana.edu/about-us/events/2024/eid
SUMMARY:Eid
DTSTART:20240410T233000Z
END:VEVENT
END:VCALENDAR
