BEGIN:VCALENDAR
VERSION:2.0
PRODID:-//hacksw/handcal//NONSGML v1.0//EN
CALSCALE:GREGORIAN
BEGIN:VEVENT
DTEND:20240410T213000Z
UID: 69e706f428008
DTSTAMP:20260421T001116Z
LOCATION:Wallenberg Hall\, Denkmann Memorial Building
DESCRIPTION:Dr. Rene Rocha\, political scientist from the University of Iowa\, is a leading scholar of immigration politics and policy. He has published in The Journal of Politics Political Research Quarterly\, Social Science Quarterly\, and others. Join us to learn more about immigration!Presented by the Schalk Lectureship in Political Science.
URL;VALUE=URI:https://www.augustana.edu/about-us/events/2024/guest-lecture-crisis-us-southwestern-border
SUMMARY:Guest lecture: 'The Crisis on the U.S. Southwestern Border'
DTSTART:20240410T213000Z
END:VEVENT
END:VCALENDAR
