BEGIN:VCALENDAR
VERSION:2.0
PRODID:-//hacksw/handcal//NONSGML v1.0//EN
CALSCALE:GREGORIAN
BEGIN:VEVENT
DTEND:20240504T190000Z
UID: 69e706726b7a1
DTSTAMP:20260421T000906Z
LOCATION:Bergendoff Hall of Fine Arts
DESCRIPTION:Senior Zander Ulam\, a music education major from Geneseo\, Ill.\, will perform a percussion recital.
URL;VALUE=URI:https://www.augustana.edu/about-us/events/2024/student-recital-zander-ulam-percussion
SUMMARY:Student recital: Zander Ulam\, percussion
DTSTART:20240504T190000Z
END:VEVENT
END:VCALENDAR
