BEGIN:VCALENDAR
VERSION:2.0
PRODID:-//hacksw/handcal//NONSGML v1.0//EN
CALSCALE:GREGORIAN
BEGIN:VEVENT
DTEND:20240420T210000Z
UID: 69e7051905e14
DTSTAMP:20260421T000321Z
LOCATION:Bergendoff Hall of Fine Arts
DESCRIPTION:Senior George Behnke\, a music music major from Davenport\, Iowa\, will perform a piano recital.
URL;VALUE=URI:https://www.augustana.edu/about-us/events/2024/student-recital-george-behnke-piano
SUMMARY:Student recital: George Behnke\, piano
DTSTART:20240420T210000Z
END:VEVENT
END:VCALENDAR
