BEGIN:VCALENDAR
VERSION:2.0
PRODID:-//hacksw/handcal//NONSGML v1.0//EN
CALSCALE:GREGORIAN
BEGIN:VEVENT
DTEND:20240413T003000Z
UID: 69e708870a1bd
DTSTAMP:20260421T001759Z
LOCATION:Wallenberg Hall\, Denkmann Memorial Building
DESCRIPTION:John Flannery will perform a composition recital.&nbsp\;Flannery is a senior from Washington\, Iowa\, majoring in piano performance and music composition.
URL;VALUE=URI:https://www.augustana.edu/about-us/events/2024/student-composition-recital-john-flannery
SUMMARY:Student composition recital: John Flannery
DTSTART:20240413T003000Z
END:VEVENT
END:VCALENDAR
