BEGIN:VCALENDAR
VERSION:2.0
PRODID:-//hacksw/handcal//NONSGML v1.0//EN
CALSCALE:GREGORIAN
BEGIN:VEVENT
DTEND:20240418T000000Z
UID: 69e701f543b99
DTSTAMP:20260420T234957Z
LOCATION:Peter J. Lindberg\, M.D.\, Center for Health and Human Performance
DESCRIPTION:
URL;VALUE=URI:https://www.augustana.edu/about-us/events/2024/presentation-history-asian-studies-program
SUMMARY:Presentation: 'The History of the Asian Studies Program at Augustana College'
DTSTART:20240418T000000Z
END:VEVENT
END:VCALENDAR
