BEGIN:VCALENDAR
VERSION:2.0
PRODID:-//hacksw/handcal//NONSGML v1.0//EN
CALSCALE:GREGORIAN
BEGIN:VEVENT
DTEND:20240405T000000Z
UID: 69e70233db528
DTSTAMP:20260420T235059Z
LOCATION:Olin Center for Educational Technology
DESCRIPTION:Emmy award-winning filmmakers Kelly and Tammy Rundle of Fourth Wall Films turn their lens on their Quad Cities home base and discover a network of people and organizations working toward improved water quality in the Upper Mississippi Watershed.
URL;VALUE=URI:https://www.augustana.edu/about-us/events/2024/film-moved-waters
SUMMARY:Film: 'Moved By Waters'
DTSTART:20240405T000000Z
END:VEVENT
END:VCALENDAR
