BEGIN:VCALENDAR
VERSION:2.0
PRODID:-//hacksw/handcal//NONSGML v1.0//EN
CALSCALE:GREGORIAN
BEGIN:VEVENT
DTEND:20240321T010000Z
UID: 69e7051954fce
DTSTAMP:20260421T000321Z
LOCATION:
DESCRIPTION:
URL;VALUE=URI:https://www.augustana.edu/about-us/events/2024/earth-hour-power-down-earth
SUMMARY:Earth Hour: Power Down for Earth
DTSTART:20240321T010000Z
END:VEVENT
END:VCALENDAR
