BEGIN:VCALENDAR
VERSION:2.0
PRODID:-//hacksw/handcal//NONSGML v1.0//EN
CALSCALE:GREGORIAN
BEGIN:VEVENT
DTEND:20240308T010000Z
UID: 69e9d6d37b90b
DTSTAMP:20260423T032243Z
LOCATION:Olin Center for Educational Technology
DESCRIPTION:
URL;VALUE=URI:https://www.augustana.edu/about-us/events/2024/inclusion-bingo
SUMMARY:Inclusion Bingo
DTSTART:20240308T010000Z
END:VEVENT
END:VCALENDAR
