BEGIN:VCALENDAR
VERSION:2.0
PRODID:-//hacksw/handcal//NONSGML v1.0//EN
CALSCALE:GREGORIAN
BEGIN:VEVENT
DTEND:20240311T000000Z
UID: 69e707e3c155b
DTSTAMP:20260421T001515Z
LOCATION:Wallenberg Hall\, Denkmann Memorial Building
DESCRIPTION:Guest artists&nbsp\;Stephen Swanson\, baritone\, and David Gompper\, piano\, from the University of Iowa will perform "Swansongs: The Last Recital."\n\n→ View program (PDF)\n
URL;VALUE=URI:https://www.augustana.edu/about-us/events/2024/guest-artist-recital-stephen-swanson-baritone-and-david-gompper-piano
SUMMARY:Guest artist recital: Stephen Swanson\, baritone\, and David Gompper\, piano
DTSTART:20240311T000000Z
END:VEVENT
END:VCALENDAR
