BEGIN:VCALENDAR
VERSION:2.0
PRODID:-//hacksw/handcal//NONSGML v1.0//EN
CALSCALE:GREGORIAN
BEGIN:VEVENT
DTEND:20240223T000000Z
UID: 69e9871d66824
DTSTAMP:20260422T214237Z
LOCATION:The Gerber Center for Student Life
DESCRIPTION:
URL;VALUE=URI:https://www.augustana.edu/about-us/events/2024/men-need-love-men-empowerment-event
SUMMARY:'Men Need Love' men empowerment event
DTSTART:20240223T000000Z
END:VEVENT
END:VCALENDAR
