BEGIN:VCALENDAR
VERSION:2.0
PRODID:-//hacksw/handcal//NONSGML v1.0//EN
CALSCALE:GREGORIAN
BEGIN:VEVENT
DTEND:20240214T230000Z
UID: 69e701f5bb170
DTSTAMP:20260420T234957Z
LOCATION:The Gerber Center for Student Life
DESCRIPTION:Unleash your inner food explorer! Every two weeks\, the Office of International Student and Scholar Services will provide transportation to several local cultural food markets\, where students can discover global flavors and make an impact.\n\nOn the Feb. 14 trip\, the group will visit&nbsp\;T&amp\;T Asian Market\,&nbsp\;El Mexicano\,&nbsp\;Metro Community Market and Aldi.\n\nTransportation will leave the college at 5 p.m. and return around 7 p.m.\n
URL;VALUE=URI:https://www.augustana.edu/about-us/events/2024/cultural-market-excursion
SUMMARY:Cultural market excursion
DTSTART:20240214T230000Z
END:VEVENT
END:VCALENDAR
