BEGIN:VCALENDAR
VERSION:2.0
PRODID:-//hacksw/handcal//NONSGML v1.0//EN
CALSCALE:GREGORIAN
BEGIN:VEVENT
DTEND:20240218T220000Z
UID: 69e6ad0ccd5da
DTSTAMP:20260420T174740Z
LOCATION:NorthPark Mall
DESCRIPTION:Join CORE Careers &amp\; Vocation for a unique virtual experience blending in-person and online shopping. Students\, staff and guests will receive an exclusive voucher to revamp their wardrobe with polished professional attire from JCPenney in North Park Mall.\n\nWhether you're attending interviews\, internships or networking events\, this is your chance to dress for success.\n\nThis is an open invitation to the entire campus community and their families. Registration is not required.\n\nThe shopping experience lasts from 4-7 p.m.\n\nFree transportation is available\, with pick-up and drop-off at the Gerber Center circle drive.\n\n\n	Buses will depart at 3:30 p.m.\, 4:30 p.m.\,&nbsp\;5:30 p.m. and 6:30 p.m.\n	Buses will return to Augie at&nbsp\;4:10 p.m.\, 5:10 p.m.\,&nbsp\;6:10 p.m. and&nbsp\;7:10 p.m.\n\n
URL;VALUE=URI:https://www.augustana.edu/about-us/events/2024/jcpenney-suit-event
SUMMARY:JCPenney suit-up event
DTSTART:20240218T220000Z
END:VEVENT
END:VCALENDAR
