BEGIN:VCALENDAR
VERSION:2.0
PRODID:-//hacksw/handcal//NONSGML v1.0//EN
CALSCALE:GREGORIAN
BEGIN:VEVENT
DTEND:20240421T003000Z
UID: 69e7062b04b70
DTSTAMP:20260421T000755Z
LOCATION:Brunner Theatre Center
DESCRIPTION:OperX will perform a wonderful evening of scenes from operas and musical theatre. Prepared under the always exciting direction of Patrick McNally this scenes program will tug at your heart and embrace your soul!\n
URL;VALUE=URI:https://www.augustana.edu/about-us/events/2024/operx-opera-scenes
SUMMARY:OperX: Opera Scenes
DTSTART:20240421T003000Z
END:VEVENT
END:VCALENDAR
