BEGIN:VCALENDAR
VERSION:2.0
PRODID:-//hacksw/handcal//NONSGML v1.0//EN
CALSCALE:GREGORIAN
BEGIN:VEVENT
DTEND:20240412T000000Z
UID: 69e718f111a76
DTSTAMP:20260421T012801Z
LOCATION:
DESCRIPTION:Graduates of the last decade are invited to a virtual trivia game hosted by the GOLD Council. Play for awesome prizes and the chance to put your Augie education to the test!\n
URL;VALUE=URI:https://www.augustana.edu/about-us/events/2024/young-alumni-trivia
SUMMARY:Young Alumni Trivia
DTSTART:20240412T000000Z
END:VEVENT
END:VCALENDAR
