BEGIN:VCALENDAR
VERSION:2.0
PRODID:-//hacksw/handcal//NONSGML v1.0//EN
CALSCALE:GREGORIAN
BEGIN:VEVENT
DTEND:20240508T003000Z
UID: 69e7188a5d7e5
DTSTAMP:20260421T012618Z
LOCATION:Wallenberg Hall\, Denkmann Memorial Building
DESCRIPTION:The Augustana Jazz Combos will perform\, directed by Dr. Joel Lindscheid.\n
URL;VALUE=URI:https://www.augustana.edu/about-us/events/2024/augustana-jazz-combos-concert-0
SUMMARY:Augustana Jazz Combos concert
DTSTART:20240508T003000Z
END:VEVENT
END:VCALENDAR
